BEGIN:VCALENDAR
VERSION:2.0
PRODID:-//Library Market//iCal Export//EN
BEGIN:VEVENT
SUMMARY:Youth Fire Academy
UID:6096
DTSTAMP:20260423T142700Z
DTSTART:20260720T040000Z
DTEND:20260724T040000Z
LOCATION:White Lake Township Library, 11005 Elizabeth Lake Rd., White Lake
 , MI 48386, United States
ROOM: The Gathering Place A &amp; B
DESCRIPTION:This academy is for students currently going into 7th or 8th g
 rade in the fall of 2026.The Youth Fire Academy is a week long program put
  on by White Lake Township Firefighters with the dual effort of expanding 
 knowledge of what the current fire service is, as well as providing an exc
 iting and beneficial experience for the local youths. Each cadet will be p
 rovided with hands on experience with many of the tools, skills, and equip
 ment utilized by the fire service. The goal is for the cadets to walk away
  from the program with at least a fun and informative memory, and at most 
 a desire to pursue a career as a Firefighter.Each cadet will end this week
  with new, useful knowledge. Some souvenirs, as well as a CPR certificatio
 n.Some of the experiences the cadets will see include, but are not limited
  to:Teamwork / LeadershipPhysical FitnessCritical ThinkingFire Suppression
  Tactics / Fire Ground OperationsVehicle Extrication (On real vehicles)Med
 ical First aid / CPRLadder workVictim Removal
URL:https://whitelake.librarycalendar.com/event/youth-fire-academy-6096
END:VEVENT
END:VCALENDAR
