BEGIN:VCALENDAR
VERSION:2.0
PRODID:-//Library Market//iCal Export//EN
BEGIN:VEVENT
SUMMARY:Rom-Commers
UID:8095
DTSTAMP:20260425T154500Z
DTSTART:20260806T223000Z
DTEND:20260806T233000Z
LOCATION:White Lake Township Library, 11005 Elizabeth Lake Rd., White Lake
 , MI 48386, United States
ROOM: The Gathering Place A &amp; B
DESCRIPTION:Calling all romantic comedy lovers! Join our book club for con
 temporary romances with guaranteed happy endings. This month we will be r
 eading The Shippers by Katherine Center.
URL:https://whitelake.librarycalendar.com/event/rom-commers-8095
END:VEVENT
END:VCALENDAR
