BEGIN:VCALENDAR
VERSION:2.0
PRODID:-//Library Market//iCal Export//EN
BEGIN:VEVENT
SUMMARY:Stop Motion Animation Workshop
UID:8103
DTSTAMP:20260425T154500Z
DTSTART:20260714T223000Z
DTEND:20260714T233000Z
LOCATION:White Lake Township Library, 11005 Elizabeth Lake Rd., White Lake
 , MI 48386, United States
ROOM: The Gathering Place A &amp; B
DESCRIPTION:Unleash your creativity in our dynamic animation workshop! Par
 ticipants will collaborate to craft a series of animated scenes, bringing 
 their ideas to life through fun and hands-on activities.
URL:https://whitelake.librarycalendar.com/event/stop-motion-animation-work
 shop-8103
END:VEVENT
END:VCALENDAR
