BEGIN:VCALENDAR
VERSION:2.0
PRODID:-//Library Market//iCal Export//EN
BEGIN:VEVENT
SUMMARY:Book Bites: Middle Grade
UID:8258
DTSTAMP:20260423T173900Z
DTSTART:20260609T223000Z
DTEND:20260609T233000Z
LOCATION:White Lake Township Library, 11005 Elizabeth Lake Rd., White Lake
 , MI 48386, United States
ROOM: The Garage
DESCRIPTION:June 9: Johnny Tremain: A Story of Boston in Revolt by Esther 
 ForbesAugust 4: Lost Time by Tas Mukanik This program is now open to 3rd-
 12th graders. Please note these titles come from the Middle Grade Collecti
 on.
URL:https://whitelake.librarycalendar.com/event/book-bites-middle-grade-82
 58
END:VEVENT
END:VCALENDAR
