BEGIN:VCALENDAR
VERSION:2.0
PRODID:-//Library Market//iCal Export//EN
BEGIN:VEVENT
SUMMARY:Summer Reading Bash
UID:8261
DTSTAMP:20260423T204600Z
DTSTART:20260812T210000Z
DTEND:20260812T230000Z
LOCATION:White Lake Township Library, 11005 Elizabeth Lake Rd., White Lake
 , MI 48386, United States
ROOM: The Gathering Place A &amp; B
DESCRIPTION:Join us to celebrate the end of the Summer Reading Challenge a
 t our bash! We will have Inflatables, a rock wall, music, face painting an
 d more!  Please note that the rock wall requires shoes and the inflatabl
 es require socks! No registration is required.
URL:https://whitelake.librarycalendar.com/event/summer-reading-bash-8261
END:VEVENT
END:VCALENDAR
