BEGIN:VCALENDAR
VERSION:2.0
PRODID:-//Library Market//iCal Export//EN
BEGIN:VEVENT
SUMMARY:Summer Kick Off Party
UID:8262
DTSTAMP:20260421T220300Z
DTSTART:20260606T183000Z
DTEND:20260606T203000Z
LOCATION:White Lake Township Library, 11005 Elizabeth Lake Rd., White Lake
 , MI 48386, United States
ROOM: The Gathering Place A &amp; B
DESCRIPTION:Kick off a Summer full of stories, adventures, and surprisesâ€
 ¦ and we might just have a very special surprise planned that you wonâ€™t 
 want to miss.
URL:https://whitelake.librarycalendar.com/event/summer-kick-party-8262
END:VEVENT
END:VCALENDAR
