BEGIN:VCALENDAR
VERSION:2.0
PRODID:-//Library Market//iCal Export//EN
BEGIN:VEVENT
SUMMARY:Kids&#039; Make-It Kits
UID:8305
DTSTAMP:20260423T031300Z
DTSTART:20260701T040000Z
DTEND:20260701T040000Z
LOCATION:White Lake Township Library, 11005 Elizabeth Lake Rd., White Lake
 , MI 48386, United States
ROOM: Kids&#039; Make-It Kits
DESCRIPTION:June- Dino MagnetsJuly- Confetti PoppersAugust- Octo Pals
URL:https://whitelake.librarycalendar.com/event/kids-make-it-kits-8305
END:VEVENT
END:VCALENDAR
