BEGIN:VCALENDAR
VERSION:2.0
PRODID:-//Library Market//iCal Export//EN
BEGIN:VEVENT
SUMMARY:Comic Whiz Kids
UID:8307
DTSTAMP:20260425T135800Z
DTSTART:20260613T183000Z
DTEND:20260613T193000Z
LOCATION:White Lake Township Library, 11005 Elizabeth Lake Rd., White Lake
 , MI 48386, United States
ROOM: The Garage
DESCRIPTION:June 13 - I Survived the American Revolution 1776: The Graphic
  Novel by Georgia BallAugust 8 - DinoMighty by Doug Paleo
URL:https://whitelake.librarycalendar.com/event/comic-whiz-kids-8307
END:VEVENT
END:VCALENDAR
