BEGIN:VCALENDAR
VERSION:2.0
PRODID:-//Library Market//iCal Export//EN
BEGIN:VEVENT
SUMMARY:Books &amp; Blocks
UID:8311
DTSTAMP:20260423T173900Z
DTSTART:20260813T223000Z
DTEND:20260813T233000Z
LOCATION:White Lake Township Library, 11005 Elizabeth Lake Rd., White Lake
 , MI 48386, United States
ROOM: The Garage
DESCRIPTION:Join us in this fun opportunity to read and discuss books whil
 e building with LEGO! The first 10 to register receive their own copy of t
 he book to keep! June 11 - Diary of a Minecraft Zombie: When Nature Calls
  by Zack ZombieAugust 13 - What is the Declaration of Independence? by Mic
 hael C. Harris
URL:https://whitelake.librarycalendar.com/event/books-blocks-8311
END:VEVENT
END:VCALENDAR
