BEGIN:VCALENDAR
VERSION:2.0
PRODID:-//Library Market//iCal Export//EN
BEGIN:VEVENT
SUMMARY:Book Bites: YA
UID:8314
DTSTAMP:20260423T173900Z
DTSTART:20260831T223000Z
DTEND:20260831T233000Z
LOCATION:White Lake Township Library, 11005 Elizabeth Lake Rd., White Lake
 , MI 48386, United States
ROOM: The Garage
DESCRIPTION:June 29: The Infinity Particle by Wendy XuAugust 31: The First
  Conspiracy: The Secret Plot to Kill George Washington: Young reader&#039;
 s edition by Brad Meltzer and Josh Mensch; adapted by Catherine Frank Thi
 s program is now open to grades 3rd-12th. Please note these titles come fr
 om the Young Adult room. 
URL:https://whitelake.librarycalendar.com/event/book-bites-ya-8314
END:VEVENT
END:VCALENDAR
