BEGIN:VCALENDAR
VERSION:2.0
PRODID:-//Library Market//iCal Export//EN
BEGIN:VEVENT
SUMMARY:Music &amp; Movement
UID:8318
DTSTAMP:20260423T071500Z
DTSTART:20260730T150000Z
DTEND:20260730T153000Z
LOCATION:White Lake Township Library, 11005 Elizabeth Lake Rd., White Lake
 , MI 48386, United States
ROOM: The Gathering Place A &amp; B
DESCRIPTION:Each child must be registered individually. Adults do not need
  to register.
URL:https://whitelake.librarycalendar.com/event/music-movement-8318
END:VEVENT
END:VCALENDAR
