BEGIN:VCALENDAR
VERSION:2.0
PRODID:-//Library Market//iCal Export//EN
BEGIN:VEVENT
SUMMARY:Preschool Storytime
UID:8326
DTSTAMP:20260422T121400Z
DTSTART:20260610T173000Z
DTEND:20260610T180000Z
LOCATION:White Lake Township Library, 11005 Elizabeth Lake Rd., White Lake
 , MI 48386, United States
ROOM: The Garage
DESCRIPTION:Join Miss Stephanie for stories, songs, crafts, and more as we
  get down to the serious work of play! (All ages with a caregiver)Please 
 note registration is grouped. You will be registered for the 3 week sessio
 n as a whole.Register each child individually.
URL:https://whitelake.librarycalendar.com/event/preschool-storytime-8326
END:VEVENT
END:VCALENDAR
