BEGIN:VCALENDAR
VERSION:2.0
PRODID:-//Library Market//iCal Export//EN
BEGIN:VEVENT
SUMMARY:Monday Matinee
UID:8339
DTSTAMP:20260423T173900Z
DTSTART:20260713T170000Z
DTEND:20260713T190000Z
LOCATION:White Lake Township Library, 11005 Elizabeth Lake Rd., White Lake
 , MI 48386, United States
ROOM: The Gathering Place A &amp; B
DESCRIPTION:Come and watch a movie the whole family will enjoy on our big 
 screen. Popcorn provided. Bring your own drinks in containers with covers.
  
URL:https://whitelake.librarycalendar.com/event/monday-matinee-8339
END:VEVENT
END:VCALENDAR
