BEGIN:VCALENDAR
VERSION:2.0
PRODID:-//Library Market//iCal Export//EN
BEGIN:VEVENT
SUMMARY:Theater Thursday
UID:8344
DTSTAMP:20260425T132200Z
DTSTART:20260813T180000Z
DTEND:20260813T200000Z
LOCATION:White Lake Township Library, 11005 Elizabeth Lake Rd., White Lake
 , MI 48386, United States
ROOM: The Gathering Place A &amp; B
DESCRIPTION:Join us each month for a movie day, closed captioning displaye
 d. Please call for the movie title. You are welcome to bring your own drin
 k in a closed container, popcorn will be provided.
URL:https://whitelake.librarycalendar.com/event/theater-thursday-8344
END:VEVENT
END:VCALENDAR
