BEGIN:VCALENDAR
VERSION:2.0
PRODID:-//Library Market//iCal Export//EN
BEGIN:VEVENT
SUMMARY:Evening Yoga
UID:8358
DTSTAMP:20260423T173900Z
DTSTART:20260616T223000Z
DTEND:20260616T233000Z
LOCATION:White Lake Township Library, 11005 Elizabeth Lake Rd., White Lake
 , MI 48386, United States
ROOM: The Gathering Place A &amp; B
DESCRIPTION:Looking for a way to boost your health and decrease stress? Jo
 in us at the library with instructor Debbie Hamina as we explore various s
 tyles of yoga practice suitable for any level of yoga experience. Make sur
 e to bring your yoga mat!
URL:https://whitelake.librarycalendar.com/event/evening-yoga-8358
END:VEVENT
END:VCALENDAR
