BEGIN:VCALENDAR
VERSION:2.0
PRODID:-//Library Market//iCal Export//EN
BEGIN:VEVENT
SUMMARY:Craft Junkies
UID:8361
DTSTAMP:20260423T173900Z
DTSTART:20260601T223000Z
DTEND:20260601T233000Z
LOCATION:White Lake Township Library, 11005 Elizabeth Lake Rd., White Lake
 , MI 48386, United States
ROOM: The Idea Lab
DESCRIPTION:Unleash your imagination with a fun, inspiring craft project! 
 We’ll provide the supplies—you bring the creativity. All skill levels 
 welcome. 
URL:https://whitelake.librarycalendar.com/event/craft-junkies-8361
END:VEVENT
END:VCALENDAR
