BEGIN:VCALENDAR
VERSION:2.0
PRODID:-//Library Market//iCal Export//EN
BEGIN:VEVENT
SUMMARY:Craft Junkies
UID:8363
DTSTAMP:20260425T115300Z
DTSTART:20260803T223000Z
DTEND:20260803T233000Z
LOCATION:White Lake Township Library, 11005 Elizabeth Lake Rd., White Lake
 , MI 48386, United States
ROOM: The Idea Lab
DESCRIPTION:Unleash your imagination with a fun, inspiring craft project! 
 We’ll provide the supplies—you bring the creativity. All skill levels 
 welcome. 
URL:https://whitelake.librarycalendar.com/event/craft-junkies-8363
END:VEVENT
END:VCALENDAR
