BEGIN:VCALENDAR
VERSION:2.0
PRODID:-//Library Market//iCal Export//EN
BEGIN:VEVENT
SUMMARY:Snack Around The State
UID:8383
DTSTAMP:20260425T115300Z
DTSTART:20260711T183000Z
DTEND:20260711T193000Z
LOCATION:White Lake Township Library, 11005 Elizabeth Lake Rd., White Lake
 , MI 48386, United States
ROOM: The Garage
DESCRIPTION:Explore regional snacks from across the Great Lakes State whil
 e learning fun facts about Michigan’s culture, history, and geography.
URL:https://whitelake.librarycalendar.com/event/snack-around-state-8383
END:VEVENT
END:VCALENDAR
