BEGIN:VCALENDAR
VERSION:2.0
PRODID:-//Library Market//iCal Export//EN
BEGIN:VEVENT
SUMMARY:Pixel Art Mosaics
UID:8417
DTSTAMP:20260425T135800Z
DTSTART:20260722T220000Z
DTEND:20260722T233000Z
LOCATION:White Lake Township Library, 11005 Elizabeth Lake Rd., White Lake
 , MI 48386, United States
ROOM: The Idea Lab
DESCRIPTION:Design and make a custom pixel art coaster using mosaic tiles.
URL:https://whitelake.librarycalendar.com/event/pixel-art-mosaics-8417
END:VEVENT
END:VCALENDAR
