BEGIN:VCALENDAR
VERSION:2.0
PRODID:-//Library Market//iCal Export//EN
BEGIN:VEVENT
SUMMARY:Created Equal
UID:8422
DTSTAMP:20260423T204600Z
DTSTART:20260819T223000Z
DTEND:20260819T233000Z
LOCATION:White Lake Township Library, 11005 Elizabeth Lake Rd., White Lake
 , MI 48386, United States
ROOM: The Gathering Place A &amp; B
DESCRIPTION:Two hundred fifty years ago the Declaration of Independence es
 tablished &quot;created equal&quot; as a political and social standard. Wh
 at struggles have given reality to its meaning?
URL:https://whitelake.librarycalendar.com/event/created-equal-8422
END:VEVENT
END:VCALENDAR
