BEGIN:VCALENDAR
VERSION:2.0
PRODID:-//Library Market//iCal Export//EN
BEGIN:VEVENT
SUMMARY:Read &amp; Discuss
UID:8424
DTSTAMP:20260423T173900Z
DTSTART:20260608T223000Z
DTEND:20260608T233000Z
LOCATION:White Lake Township Library, 11005 Elizabeth Lake Rd., White Lake
 , MI 48386, United States
ROOM: The Gathering Place A &amp; B
DESCRIPTION:Adults of all ages are invited to join this group! Read the pi
 ck of the month and join us for a lively conversation.May 11: Good Omens b
 y Terry Prachett and Neil GaimonJune 8: 1776 by David McCulloghJuly 13: Jo
 hnny Tremain by Esther ForbesAugust 10: Salt to the Sea by Ruta Sepetys
URL:https://whitelake.librarycalendar.com/event/read-discuss-8424
END:VEVENT
END:VCALENDAR
