BEGIN:VCALENDAR
VERSION:2.0
PRODID:-//Library Market//iCal Export//EN
BEGIN:VEVENT
SUMMARY:Clay Dragon Eyes
UID:8461
DTSTAMP:20260423T173900Z
DTSTART:20260729T220000Z
DTEND:20260729T233000Z
LOCATION:White Lake Township Library, 11005 Elizabeth Lake Rd., White Lake
 , MI 48386, United States
ROOM: The Idea Lab
DESCRIPTION:Use your creativity to sculpt a mesmerizing dragon eye out of 
 air-dry clay.
URL:https://whitelake.librarycalendar.com/event/clay-dragon-eyes-8461
END:VEVENT
END:VCALENDAR
