BEGIN:VCALENDAR
VERSION:2.0
PRODID:-//Library Market//iCal Export//EN
BEGIN:VEVENT
SUMMARY:Escape from King George
UID:8462
DTSTAMP:20260425T132200Z
DTSTART:20260627T180000Z
DTEND:20260627T183000Z
LOCATION:White Lake Township Library, 11005 Elizabeth Lake Rd., White Lake
 , MI 48386, United States
ROOM: The Gathering Place A &amp; B
DESCRIPTION:Celebrate America&#039;s 250th anniversary in this Revolutiona
 ry War escape room! Race to put together the pieces of the Declaration of 
 Independence. Please sign up for one time slot.
URL:https://whitelake.librarycalendar.com/event/escape-king-george-8462
END:VEVENT
END:VCALENDAR
