BEGIN:VCALENDAR
VERSION:2.0
PRODID:-//Library Market//iCal Export//EN
BEGIN:VEVENT
SUMMARY:Percy Jackson Party
UID:8475
DTSTAMP:20260423T173900Z
DTSTART:20260613T143000Z
DTEND:20260613T153000Z
LOCATION:White Lake Township Library, 11005 Elizabeth Lake Rd., White Lake
 , MI 48386, United States
ROOM: The Garage
DESCRIPTION:Dreaming of attending Camp Half-Blood? Join us for themed acti
 vities, delicious snacks, and a chance to test your knowledge in trivia! 
URL:https://whitelake.librarycalendar.com/event/percy-jackson-party-8475
END:VEVENT
END:VCALENDAR
