BEGIN:VCALENDAR
VERSION:2.0
PRODID:-//Library Market//iCal Export//EN
BEGIN:VEVENT
SUMMARY:Rock and Gem Party
UID:8524
DTSTAMP:20260423T173900Z
DTSTART:20260707T223000Z
DTEND:20260707T233000Z
LOCATION:White Lake Township Library, 11005 Elizabeth Lake Rd., White Lake
 , MI 48386, United States
ROOM: The Garage
DESCRIPTION:Celebrate all things rock and gem with fun crafts and activiti
 es, including panning for gems!
URL:https://whitelake.librarycalendar.com/event/rock-and-gem-party-8524
END:VEVENT
END:VCALENDAR
