BEGIN:VCALENDAR
VERSION:2.0
PRODID:-//Library Market//iCal Export//EN
BEGIN:VEVENT
SUMMARY:Guess Who Would Win!
UID:8527
DTSTAMP:20260425T132200Z
DTSTART:20260625T223000Z
DTEND:20260625T233000Z
LOCATION:White Lake Township Library, 11005 Elizabeth Lake Rd., White Lake
 , MI 48386, United States
ROOM: The Gathering Place A &amp; B
DESCRIPTION:Do you love the Who Would Win series? Are you a fan of dinosau
 rs? Come join us for this Guess Who style game with a Who Would Win? Dinos
 aurs twist!
URL:https://whitelake.librarycalendar.com/event/guess-who-would-win-8527
END:VEVENT
END:VCALENDAR
