BEGIN:VCALENDAR
VERSION:2.0
PRODID:-//Library Market//iCal Export//EN
BEGIN:VEVENT
SUMMARY:Unearth a Snack
UID:8533
DTSTAMP:20260423T173900Z
DTSTART:20260630T223000Z
DTEND:20260630T233000Z
LOCATION:White Lake Township Library, 11005 Elizabeth Lake Rd., White Lake
 , MI 48386, United States
ROOM: The Gathering Place A &amp; B
DESCRIPTION:Make and dig into some delicious layered foods, including dirt
  pudding!
URL:https://whitelake.librarycalendar.com/event/unearth-snack-8533
END:VEVENT
END:VCALENDAR
