BEGIN:VCALENDAR
VERSION:2.0
PRODID:-//Library Market//iCal Export//EN
BEGIN:VEVENT
SUMMARY:Sand-Tastic Experiments
UID:8534
DTSTAMP:20260423T173900Z
DTSTART:20260617T223000Z
DTEND:20260617T233000Z
LOCATION:White Lake Township Library, 11005 Elizabeth Lake Rd., White Lake
 , MI 48386, United States
ROOM: The Garage
DESCRIPTION:Spark your curiosity with sand experiments and activities. Mak
 e quicksand, play with sand slime, and investigate magic sand!
URL:https://whitelake.librarycalendar.com/event/sand-tastic-experiments-85
 34
END:VEVENT
END:VCALENDAR
