BEGIN:VCALENDAR
VERSION:2.0
PRODID:-//Library Market//iCal Export//EN
BEGIN:VEVENT
SUMMARY:Writing Workshop
UID:8574
DTSTAMP:20260423T204600Z
DTSTART:20260820T223000Z
DTEND:20260820T233000Z
LOCATION:White Lake Township Library, 11005 Elizabeth Lake Rd., White Lake
 , MI 48386, United States
ROOM: The Gathering Place A &amp; B
DESCRIPTION:Do you want to be a writer? Are you itching to finally sit dow
 n and write that book? Join the Writer&#039;s Workshop and get your story 
 told! The Writer&#039;s Workshop is a safe, encouraging space to work on a
  story or poem of any genre.
URL:https://whitelake.librarycalendar.com/event/writing-workshop-8574
END:VEVENT
END:VCALENDAR
