BEGIN:VCALENDAR
VERSION:2.0
PRODID:-//Library Market//iCal Export//EN
BEGIN:VEVENT
SUMMARY:Getting Started with Ancestry Library Edition
UID:8576
DTSTAMP:20260425T115300Z
DTSTART:20260723T223000Z
DTEND:20260723T233000Z
LOCATION:White Lake Township Library, 11005 Elizabeth Lake Rd., White Lake
 , MI 48386, United States
ROOM: The Idea Lab
DESCRIPTION:Curious about your family history? Join us for a beginner-frie
 ndly introduction to Ancestry Library Edition. We’ll walk through how se
 arching works, how to interpret records, and share simple, effective tips 
 to help you start your genealogy journey. Leave with the tools and confide
 nce to begin uncovering your own family story.
URL:https://whitelake.librarycalendar.com/event/getting-started-ancestry-l
 ibrary-edition-8576
END:VEVENT
END:VCALENDAR
