BEGIN:VCALENDAR
VERSION:2.0
PRODID:-//Library Market//iCal Export//EN
BEGIN:VEVENT
SUMMARY:Tail Waggin&#039; Tutors
UID:8582
DTSTAMP:20260423T031300Z
DTSTART:20260616T230000Z
DTEND:20260616T231500Z
LOCATION:White Lake Township Library, 11005 Elizabeth Lake Rd., White Lake
 , MI 48386, United States
ROOM: Tail Waggin&#039; Tutors
DESCRIPTION:Today&#039;s Dog: Scout 
URL:https://whitelake.librarycalendar.com/event/tail-waggin-tutors-8582
END:VEVENT
END:VCALENDAR
