BEGIN:VCALENDAR
VERSION:2.0
PRODID:-//Library Market//iCal Export//EN
BEGIN:VEVENT
SUMMARY:Tail Waggin&#039; Tutors
UID:8593
DTSTAMP:20260423T224700Z
DTSTART:20260715T231500Z
DTEND:20260715T233000Z
LOCATION:White Lake Township Library, 11005 Elizabeth Lake Rd., White Lake
 , MI 48386, United States
ROOM: Tail Waggin&#039; Tutors
DESCRIPTION:Today&#039;s Dog: Wendell
URL:https://whitelake.librarycalendar.com/event/tail-waggin-tutors-8593
END:VEVENT
END:VCALENDAR
