BEGIN:VCALENDAR
VERSION:2.0
PRODID:-//Library Market//iCal Export//EN
BEGIN:VEVENT
SUMMARY:First Day of Summer Reading Challenge
UID:8594
DTSTAMP:20260421T220300Z
DTSTART:20260601T040000Z
DTEND:20260601T040000Z
LOCATION:White Lake Township Library, 11005 Elizabeth Lake Rd., White Lake
 , MI 48386, United States
ROOM: First Day of Summer Reading Challenge
DESCRIPTION:Join our summer reading challenge! Head over to whitelake.bean
 stack.com to sign up!
URL:https://whitelake.librarycalendar.com/event/first-day-summer-reading-c
 hallenge-8594
END:VEVENT
END:VCALENDAR
