BEGIN:VCALENDAR
VERSION:2.0
PRODID:-//Library Market//iCal Export//EN
BEGIN:VEVENT
SUMMARY:Tail Waggin&#039; Tutors
UID:9207
DTSTAMP:20260423T045500Z
DTSTART:20260711T151500Z
DTEND:20260711T153000Z
LOCATION:White Lake Township Library, 11005 Elizabeth Lake Rd., White Lake
 , MI 48386, United States
ROOM: Tail Waggin&#039; Tutors
DESCRIPTION:These lovable dogs make great listeners and reading to a thera
 py dog helps build confidence and self-esteem in a fun, non-judgmental env
 ironment. Please register for only one fifteen minute time slot each mont
 h.Today&#039;s Dog: Oliver
URL:https://whitelake.librarycalendar.com/event/tail-waggin-tutors-9207
END:VEVENT
END:VCALENDAR
